Workbook

Sheet Mẫu 02
A2: DANH SÁCH CÁC ĐỐI TƯỢNG ĐÃ KÝ HỢP ĐỒNG MUA. THUÊ, THUÊ MUA, BÁN LẠI NHÀ Ở XÃ HỘI TẠI DỰ ÁN NOXH HÀNG HẢI BÌNH ĐỊNH
A3: STT | B3: Đợt trình niêm yết | C3: Đối tượng đă ký hợp đồng mua, thuê, thuê mua nhà ở xã hội | F3: Hình thức giao dịch (Đánh dấu X vào 1 trong các ô tương ứng) | I3: Mã số Căn hộ | J3: Diện tích sử dụng căn hộ (m²) | K3: Bán lại căn hộ
F4: Mua | G4: Thuê | H4: Thuê mua
C5: Họ và tên | D5: Địa chỉ thường trú/tạm trú/hiện tại | E5: Đối tượng (Ghi theo số tại phần trích yếu bên dưới)
A6: 1 | C6: 2 | D6: 3 | E6: 5 | F6: 6 | G6: 7 | H6: 8 | I6: 9 | J6: 10 | K6: 13
A7: 1 | B7: Đợt 1 | C7: Đỗ Dương Phương Linh | D7: 141 Phan Chu Trinh, Phường Quy Nhơn, Tỉnh Gia Lai | E7: 6 | F7: X | I7: H-18.06 | J7: =VLOOKUP(I7,[1]Tổng!$E$12:$N$223,10,0) -> 54.99
A8: 2 | B8: Đợt 1 | C8: Nguyễn Anh Hoàng | D8: Xóm 7, Thôn Long Hậu, Xã Ngô Mây, Tỉnh Gia Lai | E8: 6 | F8: X | I8: H-14.03 | J8: =VLOOKUP(I8,[1]Tổng!$E$12:$N$223,10,0) -> 60.37
A9: 3 | B9: Đợt 1 | C9: Lý Mạnh Huy | D9: 374 Xuân Diệu, Phường Quy Nhơn, Tỉnh Gia Lai | E9: 6 | F9: X | I9: H-07.03 | J9: =VLOOKUP(I9,[1]Tổng!$E$12:$N$223,10,0) -> 60.37
A10: 4 | B10: Đợt 1 | C10: Trần Minh Hoà | D10: Tổ 15, KV3, Phường Quy Nhơn Nam, Tỉnh Gia Lai | E10: 6 | F10: X | I10: M-06.10 | J10: =VLOOKUP(I10,[1]Tổng!$E$12:$N$223,10,0) -> 55.87
A11: 5 | B11: Đợt 1 | C11: Trương Thị Kiều Duyên | D11: Tổ 17, Khu phố 3, phường Quy Nhơn Nam, Tỉnh Gia Lai | E11: 8 | F11: X | I11: H-05.05 | J11: =VLOOKUP(I11,[1]Tổng!$E$12:$N$223,10,0) -> 54.99
A12: 6 | B12: Đợt 1 | C12: Nguyễn Thị Hoà | D12: 506 Bạch Đằng, Phường Quy Nhơn, Tỉnh Gia Lai | E12: 5 | F12: X | I12: M-15.06 | J12: =VLOOKUP(I12,[1]Tổng!$E$12:$N$223,10,0) -> 54.99
A13: 7 | B13: Đợt 1 | C13: Trần Việt Tuấn | D13: 42 Lê Văn Hưu, Phường Quy Nhơn, Tỉnh Gia Lai | E13: 5 | F13: X | I13: H-19.11 | J13: =VLOOKUP(I13,[1]Tổng!$E$12:$N$223,10,0) -> 53.66
A14: 8 | B14: Đợt 1 | C14: Hồ Văn Anh | D14: Thôn Ngọc Thạnh 2, Xã Tuy Phước Tây, Tỉnh Gia Lai | E14: 6 | F14: X | I14: M-22.01 | J14: =VLOOKUP(I14,[1]Tổng!$E$12:$N$223,10,0) -> 42.03
A15: 9 | B15: Đợt 1 | C15: Lê Văn Hoàng | D15: 30 Bùi Xuân Phái, Phường Quy Nhơn, Tỉnh Gia Lai | E15: 8 | F15: X | I15: H-12.03 | J15: =VLOOKUP(I15,[1]Tổng!$E$12:$N$223,10,0) -> 60.37
A16: 10 | B16: Đợt 1 | C16: Hà Ngọc Dư | D16: Tổ 2, Phường Hoa Lư, Thành phố Pleiku, Tỉnh Gia Lai | E16: 8 | F16: X | I16: M-15.07 | J16: =VLOOKUP(I16,[1]Tổng!$E$12:$N$223,10,0) -> 69.91
A17: 11 | B17: Đợt 1 | C17: Nguyễn Thị Thanh Thuỷ | D17: 12/7 A Sanh, Tổ 6, Phường Hội Phú, Pleiku, Gia Lai | E17: 8 | F17: X | I17: M-08.02 | J17: =VLOOKUP(I17,[1]Tổng!$E$12:$N$223,10,0) -> 55.8
A18: 12 | B18: Đợt 1 | C18: Nguyễn Đình Trúc | D18: Tổ 9, Phường Pleiku, Tỉnh Gia Lai | E18: 8 | F18: X | I18: H-12A.10 | J18: =VLOOKUP(I18,[1]Tổng!$E$12:$N$223,10,0) -> 55.87
... A31: 25 | B31: Đợt 1 | C31: Trương Gia Hợp | D31: Chung cư Ecolife Riverside, Tổ 3, Khu phố 1, Phường Quy Nhơn Đông, Tỉnh Gia Lai | E31: 6 | F31: X | I31: H-18.11 | J31: =VLOOKUP(I31,[1]Tổng!$E$12:$N$223,10,0) -> 53.66
A32: 26 | B32: Đợt 2 | C32: Trần Ngọc Hùng | D32: =VLOOKUP($I32,[2]Tổng!$F$5:$AG$558,13,0) -> Tổ dân phố 2, Phường Đồng Sơn,Tỉnh Quảng Trị | E32: =VLOOKUP($I32,[2]Tổng!$F$5:$AG$558,6,0) -> 8 | F32: X | I32: M-06.02 | J32: 55.8
A33: 27 | B33: Đợt 2 | C33: Huỳnh Thanh Bình | D33: =VLOOKUP($I33,[2]Tổng!$F$5:$AG$558,13,0) -> Tổ 1, Khu phố An Thọ, Xã Phù Cát, Tỉnh Gia Lai | E33: =VLOOKUP($I33,[2]Tổng!$F$5:$AG$558,6,0) -> 6 | F33: X | I33: H-15.06 | J33: 54.99
A34: 28 | B34: Đợt 2 | C34: Trần Hoàng Dũng | D34: =VLOOKUP($I34,[2]Tổng!$F$5:$AG$558,13,0) -> Khu Phố 10, Phường Quy Nhơn, Tỉnh Gia Lai | E34: =VLOOKUP($I34,[2]Tổng!$F$5:$AG$558,6,0) -> 7 | F34: X | I34: H-19.05 | J34: =VLOOKUP(I33,[1]Tổng!$E$12:$N$223,10,0) -> 54.99
A35: 29 | B35: Đợt 2 | C35: Lê Tuấn Anh | D35: =VLOOKUP($I35,[2]Tổng!$F$5:$AG$558,13,0) -> Tổ dân phố 8B, Xã Nghi Xuân, Tỉnh Hà Tĩnh | E35: =VLOOKUP($I35,[2]Tổng!$F$5:$AG$558,6,0) -> 7 | F35: X | I35: M-05.02 | J35: 55.8
A36: 30 | B36: Đợt 2 | C36: Lê Quang Thành | D36: =VLOOKUP($I36,[2]Tổng!$F$5:$AG$558,13,0) -> 96/7/1 Phạm Văn Đồng, Phường Pleiku, Tỉnh Gia Lai | E36: =VLOOKUP($I36,[2]Tổng!$F$5:$AG$558,6,0) -> 8 | F36: X | I36: M-22.02 | J36: 55.8
A37: 31 | B37: Đợt 2 | C37: Đào Duy Phước | D37: =VLOOKUP($I37,[2]Tổng!$F$5:$AG$558,13,0) -> Tổ dân phố 01, Xã Phú Túc, Tỉnh Gia Lai | E37: =VLOOKUP($I37,[2]Tổng!$F$5:$AG$558,6,0) -> 8 | F37: X | I37: M-15.05 | J37: 54.99
A38: 32 | B38: Đợt 2 | C38: Đặng Thị Thuỳ Trang | D38: =VLOOKUP($I38,[2]Tổng!$F$5:$AG$558,13,0) -> 38/9 Tháp Đôi, P Quy Nhơn, Tỉnh Gia Lai | E38: =VLOOKUP($I38,[2]Tổng!$F$5:$AG$558,6,0) -> 6 | F38: X | I38: H-22.10 | J38: 55.87
A39: 33 | B39: Đợt 2 | C39: Đào Anh Mai Phương | D39: =VLOOKUP($I39,[2]Tổng!$F$5:$AG$558,13,0) -> 128 Lê Lợi, Phường Quy Nhơn, Tỉnh Gia Lai | E39: =VLOOKUP($I39,[2]Tổng!$F$5:$AG$558,6,0) -> 8 | F39: X | I39: H-18.10 | J39: 55.87
A40: 34 | B40: Đợt 2 | C40: Lê Anh Thi | D40: =VLOOKUP($I40,[2]Tổng!$F$5:$AG$558,13,0) -> Thôn Đại Thuận, Xã Phù Mỹ Nam, Tỉnh Gia Lai | E40: =VLOOKUP($I40,[2]Tổng!$F$5:$AG$558,6,0) -> 6 | F40: X | I40: M-05.06 | J40: 54.99
A41: 35 | B41: Đợt 2 | C41: Lưu Thị Diệu Hương | D41: =VLOOKUP($I41,[2]Tổng!$F$5:$AG$558,13,0) -> 36/12 Hải Thượng Lãn Ông, Tổ 26, Khu Phố 4, Phường Quy Nhơn, Tỉnh Gia Lai | E41: =VLOOKUP($I41,[2]Tổng!$F$5:$AG$558,6,0) -> 7 | F41: X | I41: M-3A.02 | J41: 55.8
A42: 36 | B42: Đợt 2 | C42: Nguyễn Thị Huyền Ngân | D42: =VLOOKUP($I42,[2]Tổng!$F$5:$AG$558,13,0) -> Tổ 18, Khu Vực 2, Phường Quy Nhơn Nam, Tỉnh Gia Lai | E42: =VLOOKUP($I42,[2]Tổng!$F$5:$AG$558,6,0) -> 8 | F42: X | I42: H-08.02 | J42: 55.8
A43: 37 | B43: Đợt 2 | C43: Huỳnh Thị Sương | D43: =VLOOKUP($I43,[2]Tổng!$F$5:$AG$558,13,0) -> Tổ 55, Khu phố 10, Phường Quy Nhơn, Tỉnh Gia Lai | E43: =VLOOKUP($I43,[2]Tổng!$F$5:$AG$558,6,0) -> 1 | F43: X | I43: M-22.09 | J43: 55.87
A44: 38 | B44: Đợt 2 | C44: Lê Minh Hùng | D44: =VLOOKUP($I44,[2]Tổng!$F$5:$AG$558,13,0) -> Phường Diên Hồng, Tỉnh Gia Lai | E44: =VLOOKUP($I44,[2]Tổng!$F$5:$AG$558,6,0) -> 6 | F44: X | I44: M-19.11 | J44: 53.66
A45: 39 | B45: Đợt 2 | C45: Phạm Hữu Khang | D45: =VLOOKUP($I45,[2]Tổng!$F$5:$AG$558,13,0) -> Số nhà 19/1, Đường Ney Der, Tổ 1, Phường Pleiku, Tỉnh Gia Lai | E45: =VLOOKUP($I45,[2]Tổng!$F$5:$AG$558,6,0) -> 7 | F45: X | I45: M-11.08 | J45: 55.87
A46: 40 | B46: Đợt 2 | C46: Nguyễn Đình Toàn | D46: =VLOOKUP($I46,[2]Tổng!$F$5:$AG$558,13,0) -> Tổ 36, KP13, Phường Quy Nhơn, Tỉnh Gia Lai | E46: =VLOOKUP($I46,[2]Tổng!$F$5:$AG$558,6,0) -> 5 | F46: X | I46: M-19.02 | J46: 55.8
... A141: 135 | B141: Đợt 3 | C141: Huỳnh Lê Thu Hằng | D141: =VLOOKUP($I141,[2]Tổng!$F$5:$AG$558,13,0) -> 16A/14 Nguyễn Trãi, Phường Quy Nhơn, Tỉnh Gia Lai | E141: =VLOOKUP($I141,[2]Tổng!$F$5:$AG$558,6,0) -> 6 | F141: X | I141: M-17.08 | J141: 55.87
